BEGIN:VCALENDAR
VERSION:2.0
PRODID:-//Love Touch International - ECPv6.15.13//NONSGML v1.0//EN
CALSCALE:GREGORIAN
METHOD:PUBLISH
X-ORIGINAL-URL:https://lovetouchinternational.org
X-WR-CALDESC:Events for Love Touch International
REFRESH-INTERVAL;VALUE=DURATION:PT1H
X-Robots-Tag:noindex
X-PUBLISHED-TTL:PT1H
BEGIN:VTIMEZONE
TZID:UTC
BEGIN:STANDARD
TZOFFSETFROM:+0000
TZOFFSETTO:+0000
TZNAME:UTC
DTSTART:20170101T000000
END:STANDARD
END:VTIMEZONE
BEGIN:VEVENT
DTSTART;VALUE=DATE:20181104
DTEND;VALUE=DATE:20181105
DTSTAMP:20260424T153344
CREATED:20160705T000000Z
LAST-MODIFIED:20200328T005051Z
UID:12827-1541289600-1541375999@lovetouchinternational.org
SUMMARY:Flag Off Of Love Touch International Clean Water For Africa Campaign
DESCRIPTION:BE PART OF THIS LIFE CHANGING OUTREACH.. \nThe challenge of Hepatitis\, Typhoid\, Malaria\, E-coli and other deadly water borne related diseases in Africa have reached an alarming peak\, which calls for a unified rapid response and swift intervention… \nEXTREME CHALLENGES CALLS FOR EXTREME RESPONSE…! \nJOIN US AS WE PROVIDE  99% CLEAN – DRINKABLE WATER TO I MILLION HOMES IN AFRICA… \nWe are launching  our campaign this November in EASTERN KENYA WITH FREE DISTRIBUTION OF  1000 SAWYER WATER FILTER GADGETS… \nYou can stand to be counted for good… \nWe really need your partnership to make this a success. \nThe specification of the gadget is: SP 180 PointOne Bucket Adaptor kit.  \nCost : 50 USD\, each. \nYou can order directly from Amazon or donate here for us to make the purchase.
URL:https://lovetouchinternational.org/event/flag-off-of-love-touch-international-clean-water-for-africa-campaign/
LOCATION:KASSONI VILLAGE\, KASSONI VILLAGE\, MACHAKOS COUNTY\, MACHAKOS COUNTY\, Kenya
CATEGORIES:Events
ATTACH;FMTTYPE=image/jpeg:https://lovetouchinternational.org/wp-content/uploads/2020/03/lotaf-school3.jpg
ORGANIZER;CN="Love Touch":MAILTO:info@lovetouchinternational.org
END:VEVENT
END:VCALENDAR